BEGIN:VCALENDAR
PRODID:-//eluceo/ical//2.0/EN
VERSION:2.0
CALSCALE:GREGORIAN
BEGIN:VEVENT
UID:a9de7eacabd5ac067ecf9964484cbccb
DTSTAMP:20260422T130002Z
SUMMARY:BENEFIETCONCERT ‘HOMMAGE AAN BREL’  door OLIVIER LAURENT
DESCRIPTION:Website: https://docs.google.com/forms/d/e/1FAIpQLSebawUzS_vRWT
 5pu8Z_rme6Bi38jHqaJW43GkpFJ65msJnKDQ/viewform\nSprekers: PERFORMER: OLIVIE
 R LAURENT
URL:https://antwerpen-oost.rotary2140.org/nl/agenda/show/67685
DTSTART;TZID=Europe/Zurich:20240306T191500
DTEND;TZID=Europe/Zurich:20240306T230000
LOCATION:Amuz\, Kammenstraat 81\, 2000 Antwerpen
CATEGORIES:Rotary
END:VEVENT
BEGIN:VTIMEZONE
TZID:Europe/Zurich
BEGIN:STANDARD
DTSTART:20240306T191500
TZNAME:CET
TZOFFSETTO:+0100
TZOFFSETFROM:+0100
END:STANDARD
END:VTIMEZONE
END:VCALENDAR
